BEGIN:VCALENDAR
VERSION:2.0
PRODID:-//ChamberMaster//Event Calendar 2.0//EN
METHOD:PUBLISH
X-PUBLISHED-TTL:P1H
REFRESH-INTERVAL:P1H
CALSCALE:GREGORIAN
BEGIN:VTIMEZONE
TZID:America/Chicago
BEGIN:DAYLIGHT
RRULE:FREQ=YEARLY;BYMONTH=3;BYDAY=2SU
DTSTART:20070101T000000
TZOFFSETFROM:-0600
TZOFFSETTO:-0500
TZNAME:Central Daylight Time
END:DAYLIGHT
BEGIN:STANDARD
RRULE:FREQ=YEARLY;BYMONTH=11;BYDAY=1SU
DTSTART:20070101T000000
TZOFFSETFROM:-0500
TZOFFSETTO:-0600
TZNAME:Central Standard Time
END:STANDARD
END:VTIMEZONE
BEGIN:VEVENT
DTSTART;TZID=America/Chicago:20260528T173000
DTEND;TZID=America/Chicago:20260528T203000
X-MICROSOFT-CDO-ALLDAYEVENT:FALSE
SUMMARY:Small Business Night at the Ballpark - 2026
DESCRIPTION:In celebrating National Small Business Month\, the La Crosse Loggers & La Crosse Chamber of Commerce invite you to join us for our 2026 Small Business Night at the Ballpark! Over 2\,000 fans per game take in La Crosse Loggers baseball throughout the summer at Copeland Park\, and small businesses could be highlighted in 2026!What better way to bring attention to and honor the businesses and people that make our community great than to bring them together for a night of family fun and entertainment with your La Crosse Loggers!Featured Small Businesses:Gameday Men's HealthRiver City ChiropracticParticipating Businesses will Receive:10 Tickets (grandstands)6" Table to Interact with FansThis will be placed near the Loggers entrance gatePA & Videoboard WelcomeSocial media recap post by the Chamber with a picture of your booth and your logoNote: Businesses are not permitted to sell anything or give away food of any kind at this event.$150 per businessMinimum of 6 Businesses Required for Event Deadline for Registration: May 4\, 2026
X-ALT-DESC;FMTTYPE=text/html:<!DOCTYPE html><html><head><title></title></head><body aria-disabled="false"><p style='color: rgb(36\, 36\, 36)\; font-family: "Segoe UI"\, "Segoe UI Web (West European)"\, -apple-system\, BlinkMacSystemFont\, Roboto\, "Helvetica Neue"\, sans-serif\; font-size: 15px\; font-style: normal\; font-variant-ligatures: normal\; font-variant-caps: normal\; font-weight: 400\; letter-spacing: normal\; orphans: 2\; text-align: left\; text-indent: 0px\; text-transform: none\; widows: 2\; word-spacing: 0px\; -webkit-text-stroke-width: 0px\; white-space: normal\; background-color: rgb(255\, 255\, 255)\; text-decoration-thickness: initial\; text-decoration-style: initial\; text-decoration-color: initial\; margin-top: 0px\; margin-bottom: 0px\;'><span style="border: 0px\; font-style: inherit\; font-variant: inherit\; font-weight: inherit\; font-stretch: inherit\; font-size: 18px\; line-height: inherit\; font-family: Arial\, Helvetica\, sans-serif\; font-optical-sizing: inherit\; font-size-adjust: inherit\; font-kerning: inherit\; font-feature-settings: inherit\; font-variation-settings: inherit\; font-language-override: inherit\; margin: 0px\; padding: 0px\; vertical-align: baseline\; color: inherit\;">In celebrating National Small Business Month\, the La Crosse Loggers &amp\; La Crosse Chamber of Commerce invite you to join us for our 2026 Small Business Night at the Ballpark! Over 2\,000 fans per game take in La Crosse Loggers baseball throughout the summer at Copeland Park\, and small businesses could be highlighted in 2026!</span></p><p style='color: rgb(36\, 36\, 36)\; font-family: "Segoe UI"\, "Segoe UI Web (West European)"\, -apple-system\, BlinkMacSystemFont\, Roboto\, "Helvetica Neue"\, sans-serif\; font-size: 15px\; font-style: normal\; font-variant-ligatures: normal\; font-variant-caps: normal\; font-weight: 400\; letter-spacing: normal\; orphans: 2\; text-align: left\; text-indent: 0px\; text-transform: none\; widows: 2\; word-spacing: 0px\; -webkit-text-stroke-width: 0px\; white-space: normal\; background-color: rgb(255\, 255\, 255)\; text-decoration-thickness: initial\; text-decoration-style: initial\; text-decoration-color: initial\; margin-top: 0px\; margin-bottom: 0px\;'><span style="border: 0px\; font-style: inherit\; font-variant: inherit\; font-weight: inherit\; font-stretch: inherit\; font-size: 18px\; line-height: inherit\; font-family: Arial\, Helvetica\, sans-serif\; font-optical-sizing: inherit\; font-size-adjust: inherit\; font-kerning: inherit\; font-feature-settings: inherit\; font-variation-settings: inherit\; font-language-override: inherit\; margin: 0px\; padding: 0px\; vertical-align: baseline\; color: inherit\;">What better way to bring attention to and honor the businesses and people that make our community great than to bring them together for a night of family fun and entertainment with your La Crosse Loggers!</span></p><p><span style="font-size: 18px\;"><span style="font-family: Arial\,Helvetica\,sans-serif\;"><span style="border: 0px\; font-style: inherit\; font-variant: inherit\; font-weight: inherit\; font-stretch: inherit\; line-height: inherit\; font-optical-sizing: inherit\; font-size-adjust: inherit\; font-kerning: inherit\; font-feature-settings: inherit\; font-variation-settings: inherit\; font-language-override: inherit\; margin: 0px\; padding: 0px\; vertical-align: baseline\; color: inherit\;">Featured Small Businesses:</span></span></span></p><ul fr-original-style="" style="list-style-position: inside\;"><li style="font-family: Arial\, Helvetica\, sans-serif\; font-size: 18px\;"><span style="color: rgb(41\, 105\, 176)\;"><a fr-original-style="" href="https://gamedaymenshealth.com/la-crosse-wi" style="user-select: auto\; color: inherit\;"><span style="border: 0px\; font-style: inherit\; font-variant: inherit\; font-weight: inherit\; font-stretch: inherit\; line-height: inherit\; font-optical-sizing: inherit\; font-size-adjust: inherit\; font-kerning: inherit\; font-feature-settings: inherit\; font-variation-settings: inherit\; font-language-override: inherit\; margin: 0px\; padding: 0px\; vertical-align: baseline\;">Gameday Men&#39\;s Health</span></a></span></li><li style="font-family: Arial\, Helvetica\, sans-serif\; font-size: 18px\;"><span style="color: rgb(41\, 105\, 176)\;"><a fr-original-style="" href="https://www.rcchiropractors.com/" style="user-select: auto\; color: inherit\;"><span style="border: 0px\; font-style: inherit\; font-variant: inherit\; font-weight: inherit\; font-stretch: inherit\; line-height: inherit\; font-optical-sizing: inherit\; font-size-adjust: inherit\; font-kerning: inherit\; font-feature-settings: inherit\; font-variation-settings: inherit\; font-language-override: inherit\; margin: 0px\; padding: 0px\; vertical-align: baseline\;">River City Chiropractic</span></a></span></li></ul><p style='color: rgb(36\, 36\, 36)\; font-family: "Segoe UI"\, "Segoe UI Web (West European)"\, -apple-system\, BlinkMacSystemFont\, Roboto\, "Helvetica Neue"\, sans-serif\; font-size: 15px\; font-style: normal\; font-variant-ligatures: normal\; font-variant-caps: normal\; font-weight: 400\; letter-spacing: normal\; orphans: 2\; text-align: left\; text-indent: 0px\; text-transform: none\; widows: 2\; word-spacing: 0px\; -webkit-text-stroke-width: 0px\; white-space: normal\; background-color: rgb(255\, 255\, 255)\; text-decoration-thickness: initial\; text-decoration-style: initial\; text-decoration-color: initial\; margin-top: 0px\; margin-bottom: 0px\;'><span style="border: 0px\; font-style: inherit\; font-variant: inherit\; font-weight: inherit\; font-stretch: inherit\; font-size: 18px\; line-height: inherit\; font-family: Arial\, Helvetica\, sans-serif\; font-optical-sizing: inherit\; font-size-adjust: inherit\; font-kerning: inherit\; font-feature-settings: inherit\; font-variation-settings: inherit\; font-language-override: inherit\; margin: 0px\; padding: 0px\; vertical-align: baseline\; color: inherit\;">Participating Businesses will Receive:</span></p><ul fr-original-style='color: rgb(36\, 36\, 36)\; font-family: "Segoe UI"\, "Segoe UI Web (West European)"\, -apple-system\, BlinkMacSystemFont\, Roboto\, "Helvetica Neue"\, sans-serif\; font-size: 15px\; font-style: normal\; font-variant-ligatures: normal\; font-variant-caps: normal\; font-weight: 400\; letter-spacing: normal\; orphans: 2\; text-align: start\; text-indent: 0px\; text-transform: none\; widows: 2\; word-spacing: 0px\; -webkit-text-stroke-width: 0px\; white-space: normal\; background-color: rgb(255\, 255\, 255)\; text-decoration-thickness: initial\; text-decoration-style: initial\; text-decoration-color: initial\; list-style-position: inside\;' style='color: rgb(36\, 36\, 36)\; font-family: "Segoe UI"\, "Segoe UI Web (West European)"\, -apple-system\, BlinkMacSystemFont\, Roboto\, "Helvetica Neue"\, sans-serif\; font-size: 15px\; font-style: normal\; font-variant-ligatures: normal\; font-variant-caps: normal\; font-weight: 400\; letter-spacing: normal\; orphans: 2\; text-align: start\; text-indent: 0px\; text-transform: none\; widows: 2\; word-spacing: 0px\; -webkit-text-stroke-width: 0px\; white-space: normal\; background-color: rgb(255\, 255\, 255)\; text-decoration-thickness: initial\; text-decoration-style: initial\; text-decoration-color: initial\; list-style-position: inside\;'><li style="font-size: 18px\; font-family: Arial\, Helvetica\, sans-serif\; text-align: left\;">10 Tickets (grandstands)</li><li style="font-size: 18px\; font-family: Arial\, Helvetica\, sans-serif\;">6&rdquo\; Table to Interact with Fans<ul fr-original-style="" style="list-style-position: inside\;"><li style="font-size: 18px\; font-family: Arial\, Helvetica\, sans-serif\; text-align: left\;">This will be placed near the Loggers entrance gate</li></ul></li><li style="font-size: 18px\; font-family: Arial\, Helvetica\, sans-serif\; text-align: left\;">PA &amp\; Videoboard Welcome</li><li style="font-size: 18px\; font-family: Arial\, Helvetica\, sans-serif\; text-align: left\;">Social media recap post by the Chamber with a picture of your booth and your logo</li></ul><p style='color: rgb(36\, 36\, 36)\; font-family: "Segoe UI"\, "Segoe UI Web (West European)"\, -apple-system\, BlinkMacSystemFont\, Roboto\, "Helvetica Neue"\, sans-serif\; font-size: 15px\; font-style: normal\; font-variant-ligatures: normal\; font-variant-caps: normal\; font-weight: 400\; letter-spacing: normal\; orphans: 2\; text-align: left\; text-indent: 0px\; text-transform: none\; widows: 2\; word-spacing: 0px\; -webkit-text-stroke-width: 0px\; white-space: normal\; background-color: rgb(255\, 255\, 255)\; text-decoration-thickness: initial\; text-decoration-style: initial\; text-decoration-color: initial\; margin-top: 0px\; margin-bottom: 0px\;'><span style="border: 0px\; font-style: inherit\; font-variant: inherit\; font-weight: inherit\; font-stretch: inherit\; font-size: 18px\; line-height: inherit\; font-family: Arial\, Helvetica\, sans-serif\; font-optical-sizing: inherit\; font-size-adjust: inherit\; font-kerning: inherit\; font-feature-settings: inherit\; font-variation-settings: inherit\; font-language-override: inherit\; margin: 0px\; padding: 0px\; vertical-align: baseline\; color: inherit\;">Note: Businesses are not permitted to sell anything or give away food of any kind at this event.</span></p><ul fr-original-style='color: rgb(36\, 36\, 36)\; font-family: "Segoe UI"\, "Segoe UI Web (West European)"\, -apple-system\, BlinkMacSystemFont\, Roboto\, "Helvetica Neue"\, sans-serif\; font-size: 15px\; font-style: normal\; font-variant-ligatures: normal\; font-variant-caps: normal\; font-weight: 400\; letter-spacing: normal\; orphans: 2\; text-align: start\; text-indent: 0px\; text-transform: none\; widows: 2\; word-spacing: 0px\; -webkit-text-stroke-width: 0px\; white-space: normal\; background-color: rgb(255\, 255\, 255)\; text-decoration-thickness: initial\; text-decoration-style: initial\; text-decoration-color: initial\; list-style-position: inside\;' style='color: rgb(36\, 36\, 36)\; font-family: "Segoe UI"\, "Segoe UI Web (West European)"\, -apple-system\, BlinkMacSystemFont\, Roboto\, "Helvetica Neue"\, sans-serif\; font-size: 15px\; font-style: normal\; font-variant-ligatures: normal\; font-variant-caps: normal\; font-weight: 400\; letter-spacing: normal\; orphans: 2\; text-align: start\; text-indent: 0px\; text-transform: none\; widows: 2\; word-spacing: 0px\; -webkit-text-stroke-width: 0px\; white-space: normal\; background-color: rgb(255\, 255\, 255)\; text-decoration-thickness: initial\; text-decoration-style: initial\; text-decoration-color: initial\; list-style-position: inside\;'><li style="text-align: left\;"><span style="border: 0px\; font-style: inherit\; font-variant: inherit\; font-weight: inherit\; font-stretch: inherit\; font-size: 18px\; line-height: inherit\; font-family: Arial\, Helvetica\, sans-serif\; font-optical-sizing: inherit\; font-size-adjust: inherit\; font-kerning: inherit\; font-feature-settings: inherit\; font-variation-settings: inherit\; font-language-override: inherit\; margin: 0px\; padding: 0px\; vertical-align: baseline\; color: inherit\;">$150 per business</span></li><li style="text-align: left\;"><span style="border: 0px\; font-style: inherit\; font-variant: inherit\; font-weight: inherit\; font-stretch: inherit\; font-size: 18px\; line-height: inherit\; font-family: Arial\, Helvetica\, sans-serif\; font-optical-sizing: inherit\; font-size-adjust: inherit\; font-kerning: inherit\; font-feature-settings: inherit\; font-variation-settings: inherit\; font-language-override: inherit\; margin: 0px\; padding: 0px\; vertical-align: baseline\; color: inherit\;">Minimum of 6 Businesses Required for Event&nbsp\;</span></li><li style="text-align: left\;"><span style="border: 0px\; font-style: inherit\; font-variant: inherit\; font-weight: inherit\; font-stretch: inherit\; font-size: 18px\; line-height: inherit\; font-family: Arial\, Helvetica\, sans-serif\; font-optical-sizing: inherit\; font-size-adjust: inherit\; font-kerning: inherit\; font-feature-settings: inherit\; font-variation-settings: inherit\; font-language-override: inherit\; margin: 0px\; padding: 0px\; vertical-align: baseline\; color: inherit\;">Deadline for Registration: May 4\, 2026</span></li></ul></body></html>
LOCATION:1130 Copeland Park Dr La Crosse 54603
UID:e.3772.1413871
SEQUENCE:3
DTSTAMP:20260422T203354Z
URL:https://business.lacrossechamber.com/business-after-hours-calendar/Details/small-business-night-at-the-ballpark-2026-1670783?sourceTypeId=Hub
END:VEVENT
END:VCALENDAR
