BEGIN:VCALENDAR
VERSION:2.0
PRODID:-//ChamberMaster//Event Calendar 2.0//EN
METHOD:PUBLISH
X-PUBLISHED-TTL:P1H
REFRESH-INTERVAL:P1H
CALSCALE:GREGORIAN
BEGIN:VTIMEZONE
TZID:America/Chicago
BEGIN:DAYLIGHT
RRULE:FREQ=YEARLY;BYMONTH=3;BYDAY=2SU
DTSTART:20070101T000000
TZOFFSETFROM:-0600
TZOFFSETTO:-0500
TZNAME:Central Daylight Time
END:DAYLIGHT
BEGIN:STANDARD
RRULE:FREQ=YEARLY;BYMONTH=11;BYDAY=1SU
DTSTART:20070101T000000
TZOFFSETFROM:-0500
TZOFFSETTO:-0600
TZNAME:Central Standard Time
END:STANDARD
END:VTIMEZONE
BEGIN:VEVENT
DTSTART;TZID=America/Chicago:20260615T114500
DTEND;TZID=America/Chicago:20260615T130000
X-MICROSOFT-CDO-ALLDAYEVENT:FALSE
SUMMARY:The Forum: Higher Education Update
DESCRIPTION:La Crosse is home to three regional colleges and universities\, making higher education a cornerstone of our area. For our June forum\, hear from UW-La Crosse Chancellor James Beeby\, Viterbo President Rick Trietley\, and Western Technical College President Roger Stanford for an update about their respective schools. We'll discuss new initiatives\, how they're partnering with local businesses\, and what they're doing to keep students in the Coulee Region after they graduate. This forum will provide a unique opportunity to hear from all three institutional leaders about the direction of their schools.
X-ALT-DESC;FMTTYPE=text/html:<!DOCTYPE html><html><head><title></title></head><body aria-disabled="false"><p>La Crosse is home to three regional colleges and universities\, making higher education a cornerstone of our area. For our June forum\, hear from UW-La Crosse Chancellor James Beeby\, Viterbo President Rick Trietley\, and Western Technical College President Roger Stanford for an update about their respective schools. We&rsquo\;ll discuss new initiatives\, how they&rsquo\;re partnering with local businesses\, and what they&rsquo\;re doing to keep students in the Coulee Region after they graduate. This forum will provide a unique opportunity to hear from all three institutional leaders about the direction of their schools.</p></body></html>
LOCATION:200 Harborview Plaza Ballroom A La Crosse WI 54601
UID:e.3772.1450266
SEQUENCE:3
DTSTAMP:20260424T092451Z
URL:https://business.lacrossechamber.com/business-after-hours-calendar/Details/the-forum-higher-education-update-1717846?sourceTypeId=Hub
END:VEVENT
END:VCALENDAR
